BEGIN:VCALENDAR
VERSION:2.0
CALSCALE:GREGORIAN
PRODID:-//Diputació de Barcelona//DibaCMS//EN
BEGIN:VEVENT
UID:5759
DTSTAMP:20260423T031704
DTSTART:20130130T000000
DTEND:20140130T000000
SUMMARY:El campió del món Antonio García Robledo donarà nom al Pavelló Riera Seca
LOCATION:
METHOD:PUBLISH
X-WR-CALNAME:llagosta@llagosta.cat
X-WR-TIMEZONE:Europe/Madrid
DESCRIPTION:El Pavelló Riera Seca portarà el nom d'Antonio García Robledo. Així ho va anunciar ahir l'alcalde de la Llagosta, Alberto López, durant la recepció oficial que l'Ajuntament va organitzar per fer un reconeixement a l'esportista llagostenc després de proclamar-se campió del món amb la selecció espanyola d'handbol. 
URI:https://www.llagosta.cat/actualitat/noticies/el-campio-del-mon-antonio-garcia-robledo-donara-nom-al-pavello-riera-seca.html
CLASS:PUBLIC
END:VEVENT
END:VCALENDAR
