BEGIN:VCALENDAR
VERSION:2.0
CALSCALE:GREGORIAN
PRODID:-//Diputació de Barcelona//DibaCMS//EN
BEGIN:VEVENT
UID:5758
DTSTAMP:20260423T120405
DTSTART:20130129T000000
DTEND:20140129T000000
SUMMARY:A la Llagosta, s'han recollit 1.800 signatures per demanar la dació en pagament
LOCATION:
METHOD:PUBLISH
X-WR-CALNAME:llagosta@llagosta.cat
X-WR-TIMEZONE:Europe/Madrid
DESCRIPTION:La Plataforma d'Afectats per la Hipoteca de la Llagosta ha recollit, una vegada descartades les que no estaven correctament, unes 1.800 signatures de suport a una Iniciativa Legislativa Popular (ILP) per demanar la dació en el pagament de la hipoteca. A tot l'Estat, s'han aconseguit prop de 800.000 firmes. Aquesta xifra augmentarà quan se sumin les recollides per sindicats i altres col·lectius socials.
URI:https://www.llagosta.cat/actualitat/noticies/a-la-llagosta-shan-recollit-1800-signatures-per-demanar-la-dacio-en-pagament.html
CLASS:PUBLIC
END:VEVENT
END:VCALENDAR
