BEGIN:VCALENDAR
VERSION:2.0
CALSCALE:GREGORIAN
PRODID:-//Diputació de Barcelona//DibaCMS//EN
BEGIN:VEVENT
UID:5757
DTSTAMP:20260422T203844
DTSTART:20130129T000000
DTEND:20140129T000000
SUMMARY:El sènior del Vallag guanya el Martorell (27-20) i es manté en cinquena posició
LOCATION:
METHOD:PUBLISH
X-WR-CALNAME:llagosta@llagosta.cat
X-WR-TIMEZONE:Europe/Madrid
DESCRIPTION:El sènior de l'Handbol Club Vallag de la Llagosta va guanyar el cap de setmana passat el Martorell per 27 a 20. Els de la nostra localitat es mantenen en la lluita pel campionat. La propera jornada jugaran contra el Sant Joan Despí B.
URI:https://www.llagosta.cat/actualitat/noticies/el-senior-del-vallag-guanya-el-martorell-27-20-i-es-mante-en-cinquena-posicio.html
CLASS:PUBLIC
END:VEVENT
END:VCALENDAR
