BEGIN:VCALENDAR
VERSION:2.0
CALSCALE:GREGORIAN
PRODID:-//Diputació de Barcelona//DibaCMS//EN
BEGIN:VEVENT
UID:5756
DTSTAMP:20260422T160351
DTSTART:20130129T000000
DTEND:20140128T000000
SUMMARY:Demà, acte recepció oficial i acte de reconeixement a Antonio García a l'Ajuntament
LOCATION:
METHOD:PUBLISH
X-WR-CALNAME:llagosta@llagosta.cat
X-WR-TIMEZONE:Europe/Madrid
DESCRIPTION:L'Ajuntament de la Llagosta organitzarà avui a partir de les 19.30 hores una recepció oficial i un acte de reconeixement a Antonio García. L'acte tindrà lloc a la sala de plens del Consistori. 
URI:https://www.llagosta.cat/actualitat/noticies/dema-acte-recepcio-oficial-i-acte-de-reconeixement-a-antonio-garcia-a-lajuntament.html
CLASS:PUBLIC
END:VEVENT
END:VCALENDAR
