BEGIN:VCALENDAR
VERSION:2.0
CALSCALE:GREGORIAN
PRODID:-//Diputació de Barcelona//DibaCMS//EN
BEGIN:VEVENT
UID:5755
DTSTAMP:20260423T001047
DTSTART:20130129T000000
DTEND:20140129T000000
SUMMARY:El Tribunal Suprem ratifica la nul·litat de la requalificació dels terrenys de Can Milans
LOCATION:
METHOD:PUBLISH
X-WR-CALNAME:llagosta@llagosta.cat
X-WR-TIMEZONE:Europe/Madrid
DESCRIPTION:El Tribunal Suprem ha desestimat el recurs de cassació interposat per la Generalitat de Catalunya i l'empresa Barnices Valentine contra la nul·litat de la requalificació dels terrenys de Can Milans de zona verda a sòl industrial. El Consistori llagostenc va rebre divendres la sentència i ahir mateix es va celebrar una Junta de Portaveus extraordinària per comunicar-la a tots els grups polítics municipals. A la reunió es va informar sobre aquesta decisió del Tribunal Suprem i sobre les passes que es donaran a partir d'ara.
URI:https://www.llagosta.cat/actualitat/noticies/el-tribunal-suprem-ratifica-la-nullitat-de-la-requalificacio-dels-terrenys-de-can-milans.html
CLASS:PUBLIC
END:VEVENT
END:VCALENDAR
