BEGIN:VCALENDAR
VERSION:2.0
CALSCALE:GREGORIAN
PRODID:-//Diputació de Barcelona//DibaCMS//EN
BEGIN:VEVENT
UID:5754
DTSTAMP:20260423T072423
DTSTART:20130128T000000
DTEND:20140121T000000
SUMMARY:El Viejas Glorias cau contra el Sabadell Nord i suma la tercera derrota seguida
LOCATION:
METHOD:PUBLISH
X-WR-CALNAME:llagosta@llagosta.cat
X-WR-TIMEZONE:Europe/Madrid
DESCRIPTION:El Club Deportivo Viejas Glorias va caure la jornada passada per 1 a 3 contra el Sabadell Nord. Aquesta ha estat la tercera derrota seguida del conjunt de la Llagosta, que encara no ha guanyat aquest any 2013.
URI:https://www.llagosta.cat/actualitat/noticies/el-viejas-glorias-cau-contra-el-sabadell-nord-i-suma-la-tercera-derrota-seguida.html
CLASS:PUBLIC
END:VEVENT
END:VCALENDAR
