BEGIN:VCALENDAR
VERSION:2.0
CALSCALE:GREGORIAN
PRODID:-//Diputació de Barcelona//DibaCMS//EN
BEGIN:VEVENT
UID:5753
DTSTAMP:20260423T204954
DTSTART:20130128T000000
DTEND:20140128T000000
SUMMARY:El Fútbol Sala Unión Llagostense empata a casa contra l'Oliveras (2-2)
LOCATION:
METHOD:PUBLISH
X-WR-CALNAME:llagosta@llagosta.cat
X-WR-TIMEZONE:Europe/Madrid
DESCRIPTION:El primer equip del Fútbol Sala Unión Llagostense va empatar el cap de setmana passat a dos gols a casa contra l'Oliveras. Els llagostencs van fer una gran primera part i van marxar al descans amb un avantatge de 2 a 0, però, a la segona part, van fallar molt i van veure com els visitants els empataven. Els gols del conjunt local els van fer Juan Carlos i José Ángel. 
URI:https://www.llagosta.cat/actualitat/noticies/el-futbol-sala-union-llagostense-empata-a-casa-contra-loliveras-2-2.html
CLASS:PUBLIC
END:VEVENT
END:VCALENDAR
