BEGIN:VCALENDAR
VERSION:2.0
CALSCALE:GREGORIAN
PRODID:-//Diputació de Barcelona//DibaCMS//EN
BEGIN:VEVENT
UID:5752
DTSTAMP:20260423T035327
DTSTART:20130128T000000
DTEND:20140128T000000
SUMMARY:Antonio García es proclama campió del món amb la selecció espanyola d'handbol
LOCATION:
METHOD:PUBLISH
X-WR-CALNAME:llagosta@llagosta.cat
X-WR-TIMEZONE:Europe/Madrid
DESCRIPTION:El llagostenc Antonio García es va proclamar ahir campió del món amb la selecció espanyola absoluta d'handbol després de derrotar en la final Dinamarca per un contundent 35 a 19. L'esportista de la nostra localitat va sortir en l'equip titular i va ser l'encarregat d'obrir el marcador d'un partit disputat al Palau Sant Jordi. Antonio García va jugar molts minuts i va marcar dos gols, a més de donar diverses assistències als seus companys.
URI:https://www.llagosta.cat/actualitat/noticies/antonio-garcia-es-proclama-campio-del-mon-amb-la-seleccio-espanyola-dhandbol.html
CLASS:PUBLIC
END:VEVENT
END:VCALENDAR
