BEGIN:VCALENDAR
VERSION:2.0
CALSCALE:GREGORIAN
PRODID:-//Diputació de Barcelona//DibaCMS//EN
BEGIN:VEVENT
UID:5751
DTSTAMP:20260422T174509
DTSTART:20130125T000000
DTEND:20140125T000000
SUMMARY:El Complex Esportiu Municipal El Turó posa en marxa la seva pàgina web
LOCATION:
METHOD:PUBLISH
X-WR-CALNAME:llagosta@llagosta.cat
X-WR-TIMEZONE:Europe/Madrid
DESCRIPTION:El Complex Esportiu Municipal El Turó estrena web, www.cemelturo.com. En aquest espai es poden trobar tots els serveis del centre, les seves activitats, així com les ofertes, els preus, informació sobre les instal·lacions i les dades de contacte. A més, El Turó ha obert perfils a les xarxes socials Facebook i Twitter.
URI:https://www.llagosta.cat/actualitat/noticies/el-complex-esportiu-municipal-el-turo-posa-en-marxa-la-seva-pagina-web.html
CLASS:PUBLIC
END:VEVENT
END:VCALENDAR
