BEGIN:VCALENDAR
VERSION:2.0
CALSCALE:GREGORIAN
PRODID:-//Diputació de Barcelona//DibaCMS//EN
BEGIN:VEVENT
UID:5750
DTSTAMP:20260422T162458
DTSTART:20130125T000000
DTEND:20140125T000000
SUMMARY:La final del Mundial d'handbol es veurà al Centre Cultural si Espanya s'hi classifica
LOCATION:
METHOD:PUBLISH
X-WR-CALNAME:llagosta@llagosta.cat
X-WR-TIMEZONE:Europe/Madrid
DESCRIPTION:L'Ajuntament de la Llagosta obrirà diumenge el Centre Cultural per veure la retransmissió de la final del Mundial d'handbol entre Espanya i Dinamarca. Espanya ha guanyat la primera semifinal a Eslovènia per 26 a 22 amb dos gols d'Antonio García, mentre que els danesos han derrotat Croàcia.
URI:https://www.llagosta.cat/actualitat/noticies/la-final-del-mundial-dhandbol-es-veura-al-centre-cultural-si-espanya-shi-classifica.html
CLASS:PUBLIC
END:VEVENT
END:VCALENDAR
