BEGIN:VCALENDAR
VERSION:2.0
CALSCALE:GREGORIAN
PRODID:-//Diputació de Barcelona//DibaCMS//EN
BEGIN:VEVENT
UID:5749
DTSTAMP:20260423T035549
DTSTART:20130125T000000
DTEND:20140125T000000
SUMMARY:Demà, nou intercanvi cultural organitzat per la Casa de Andalucía de la Llagosta
LOCATION:
METHOD:PUBLISH
X-WR-CALNAME:llagosta@llagosta.cat
X-WR-TIMEZONE:Europe/Madrid
DESCRIPTION:El Centre Cultural acollirà demà un nou intercanvi cultural organitzat per la Casa de Andalucía de la Llagosta. L'acte començarà a dos quarts de vuit de la tarda. La Casa de Andalucía comptarà, com és habitual, amb la participació d'altres centres regionals del nostre entorn. 
URI:https://www.llagosta.cat/actualitat/noticies/dema-nou-intercanvi-cultural-organitzat-per-la-casa-de-andalucia-de-la-llagosta.html
CLASS:PUBLIC
END:VEVENT
END:VCALENDAR
