BEGIN:VCALENDAR
VERSION:2.0
CALSCALE:GREGORIAN
PRODID:-//Diputació de Barcelona//DibaCMS//EN
BEGIN:VEVENT
UID:5748
DTSTAMP:20260423T014407
DTSTART:20130125T000000
DTEND:20140125T000000
SUMMARY:Més de 50 persones van assistir ahir a una nova activitat del Casal Obert
LOCATION:
METHOD:PUBLISH
X-WR-CALNAME:llagosta@llagosta.cat
X-WR-TIMEZONE:Europe/Madrid
DESCRIPTION:L'espai de lectura del Casal Infantil de la Llagosta es va omplir ahir per la tarda durant la sessió de contes de Maria Castaña, que va organitzar, com activitat intergeneracional, la Regidoria d'Infància dins de la programació del Casal Obert. Els propis assistents van ser narradors de diferents històries i contes. Més de 50 persones van participar en l'activitat.
URI:https://www.llagosta.cat/actualitat/noticies/mes-de-50-persones-van-assistir-ahir-a-una-nova-activitat-del-casal-obert.html
CLASS:PUBLIC
END:VEVENT
END:VCALENDAR
