BEGIN:VCALENDAR
VERSION:2.0
CALSCALE:GREGORIAN
PRODID:-//Diputació de Barcelona//DibaCMS//EN
BEGIN:VEVENT
UID:5747
DTSTAMP:20260423T073642
DTSTART:20130125T000000
DTEND:20140125T000000
SUMMARY:El sènior del Joventut Handbol La Llagosta guanya fàcilment a la pista del cuer
LOCATION:
METHOD:PUBLISH
X-WR-CALNAME:llagosta@llagosta.cat
X-WR-TIMEZONE:Europe/Madrid
DESCRIPTION:El sènior del Joventut Handbol La Llagosta tindrà aquest cap de setmana un important enfrontament contra el segon classificat, el Santpedor. Els de la nostra localitat, que continuen líders, van vèncer la jornada passada l'Agramunt per 10 a 25.
URI:https://www.llagosta.cat/actualitat/noticies/el-senior-del-joventut-handbol-la-llagosta-guanya-facilment-a-la-pista-del-cuer.html
CLASS:PUBLIC
END:VEVENT
END:VCALENDAR
