BEGIN:VCALENDAR
VERSION:2.0
CALSCALE:GREGORIAN
PRODID:-//Diputació de Barcelona//DibaCMS//EN
BEGIN:VEVENT
UID:5746
DTSTAMP:20260423T073114
DTSTART:20130125T000000
DTEND:20140124T000000
SUMMARY:La Colla Gegantera de la Llagosta estarà present diumenge a la Trobada de Parets
LOCATION:
METHOD:PUBLISH
X-WR-CALNAME:llagosta@llagosta.cat
X-WR-TIMEZONE:Europe/Madrid
DESCRIPTION:La Colla Gegantera de la Llagosta participarà diumenge a la 26a Trobada Gegantera de Parets. Aquesta serà la primera sortida de l'any dels gegants de la nostra localitat.
URI:https://www.llagosta.cat/actualitat/noticies/la-colla-gegantera-de-la-llagosta-estara-present-diumenge-a-la-trobada-de-parets.html
CLASS:PUBLIC
END:VEVENT
END:VCALENDAR
