BEGIN:VCALENDAR
VERSION:2.0
CALSCALE:GREGORIAN
PRODID:-//Diputació de Barcelona//DibaCMS//EN
BEGIN:VEVENT
UID:5745
DTSTAMP:20260423T001114
DTSTART:20130124T000000
DTEND:20140112T000000
SUMMARY:El nombre d'aturats baixa a la Llagosta per segon mes seguit
LOCATION:
METHOD:PUBLISH
X-WR-CALNAME:llagosta@llagosta.cat
X-WR-TIMEZONE:Europe/Madrid
DESCRIPTION:A finals de 2012 hi havia registrats a l'Oficina de Treball de la Generalitat 1.526 llagostencs, un 20,89% de la població activa estimada. Això suposa un increment de 119 persones respecte a les dades de l'any anterior. El 2011 va acabar amb 1.407 aturats, un índex de desocupació del 19,20%.
URI:https://www.llagosta.cat/actualitat/noticies/el-nombre-daturats-baixa-a-la-llagosta-per-segon-mes-seguit.html
CLASS:PUBLIC
END:VEVENT
END:VCALENDAR
