BEGIN:VCALENDAR
VERSION:2.0
CALSCALE:GREGORIAN
PRODID:-//Diputació de Barcelona//DibaCMS//EN
BEGIN:VEVENT
UID:5744
DTSTAMP:20260423T014459
DTSTART:20130124T000000
DTEND:20140124T000000
SUMMARY:Espanya ja està a les semifinals del Mundial després de derrotar Alemanya (28-24)
LOCATION:
METHOD:PUBLISH
X-WR-CALNAME:llagosta@llagosta.cat
X-WR-TIMEZONE:Europe/Madrid
DESCRIPTION:Espanya va guanyar ahir Alemanya per 28 a 24 i es va classificar per a semifinals del Mundial d'handbol. La selecció espanyola es disputarà demà amb Eslovènia el passi a la final. 
URI:https://www.llagosta.cat/actualitat/noticies/espanya-ja-esta-a-les-semifinals-del-mundial-despres-de-derrotar-alemanya-28-24.html
CLASS:PUBLIC
END:VEVENT
END:VCALENDAR
