BEGIN:VCALENDAR
VERSION:2.0
CALSCALE:GREGORIAN
PRODID:-//Diputació de Barcelona//DibaCMS//EN
BEGIN:VEVENT
UID:5743
DTSTAMP:20260422T235311
DTSTART:20130124T000000
DTEND:20140124T000000
SUMMARY:El sènior de l'EBC, amb moltes baixes, perd clarament contra el segon classificat
LOCATION:
METHOD:PUBLISH
X-WR-CALNAME:llagosta@llagosta.cat
X-WR-TIMEZONE:Europe/Madrid
DESCRIPTION:El primer equip de l'Esportiu Bàsquet Club de la Llagosta va caure el cap de setmana passat per un clar 46 a 95 a la pista del Sant Celoni, el segon classificat de la lliga. La propera jornada, els de la nostra localitat s'enfrontaran al líder, el Cardedeu.
URI:https://www.llagosta.cat/actualitat/noticies/el-senior-de-lebc-amb-moltes-baixes-perd-clarament-contra-el-segon-classificat.html
CLASS:PUBLIC
END:VEVENT
END:VCALENDAR
