BEGIN:VCALENDAR
VERSION:2.0
CALSCALE:GREGORIAN
PRODID:-//Diputació de Barcelona//DibaCMS//EN
BEGIN:VEVENT
UID:5742
DTSTAMP:20260422T235742
DTSTART:20130124T000000
DTEND:20140124T000000
SUMMARY:Tres veïns van explicar ahir històries de la Llagosta en un acte organitzat per la Biblioteca
LOCATION:
METHOD:PUBLISH
X-WR-CALNAME:llagosta@llagosta.cat
X-WR-TIMEZONE:Europe/Madrid
DESCRIPTION:La sala d'exposicions del Centre Cultural i Juvenil Can Pelegrí de la Llagosta es va omplir ahir per la tarda durant la xerrada amb el títol Històries de la Llagosta, que va organitzar la Biblioteca Municipal. Tres veïns, Mateu Bartalot, Magdalena Marjanet i Joan Pujadas, van explicar alguns fets sobre la Llagosta des de l'època de la Guerra Civil fins als anys 60 del segle passat. 
URI:https://www.llagosta.cat/actualitat/noticies/tres-veins-van-explicar-ahir-histories-de-la-llagosta-en-un-acte-organitzat-per-la-biblioteca.html
CLASS:PUBLIC
END:VEVENT
END:VCALENDAR
