BEGIN:VCALENDAR
VERSION:2.0
CALSCALE:GREGORIAN
PRODID:-//Diputació de Barcelona//DibaCMS//EN
BEGIN:VEVENT
UID:5741
DTSTAMP:20260423T203418
DTSTART:20130123T000000
DTEND:20140123T000000
SUMMARY:L'Ajuntament prepara la Festa de Carnestoltes de 2013 amb diverses novetats
LOCATION:
METHOD:PUBLISH
X-WR-CALNAME:llagosta@llagosta.cat
X-WR-TIMEZONE:Europe/Madrid
DESCRIPTION:La Festa de Carnestoltes de la Llagosta presentarà algunes novetats aquest any. L'Ajuntament de la Llagosta recuperarà la rua que es feia per tota la població a petició d'algunes entitats i grups que participen en aquesta festa. 
URI:https://www.llagosta.cat/actualitat/noticies/lajuntament-prepara-la-festa-de-carnestoltes-de-2013-amb-diverses-novetats.html
CLASS:PUBLIC
END:VEVENT
END:VCALENDAR
