BEGIN:VCALENDAR
VERSION:2.0
CALSCALE:GREGORIAN
PRODID:-//Diputació de Barcelona//DibaCMS//EN
BEGIN:VEVENT
UID:5740
DTSTAMP:20260422T142717
DTSTART:20130123T000000
DTEND:20140123T000000
SUMMARY:Una vintena de persones van assistir ahir a la xerrada organitzada pels Fondistes
LOCATION:
METHOD:PUBLISH
X-WR-CALNAME:llagosta@llagosta.cat
X-WR-TIMEZONE:Europe/Madrid
DESCRIPTION:El Club Esportiu Fondistes de la Llagosta s'ha mostrat satisfet amb la xerrada sobre psicologia esportiva. A l'acte, que es va fer ahir al Centre Cultural, van assistir una vintena de persones.
URI:https://www.llagosta.cat/actualitat/noticies/una-vintena-de-persones-van-assistir-ahir-a-la-xerrada-organitzada-pels-fondistes.html
CLASS:PUBLIC
END:VEVENT
END:VCALENDAR
