BEGIN:VCALENDAR
VERSION:2.0
CALSCALE:GREGORIAN
PRODID:-//Diputació de Barcelona//DibaCMS//EN
BEGIN:VEVENT
UID:5739
DTSTAMP:20260423T061126
DTSTART:20130123T000000
DTEND:20140123T000000
SUMMARY:La Concòrdia va ajornar el seu partit contra el Teià i perd la primera posició del grup
LOCATION:
METHOD:PUBLISH
X-WR-CALNAME:llagosta@llagosta.cat
X-WR-TIMEZONE:Europe/Madrid
DESCRIPTION:El Club Deportivo La Concòrdia va ajornar finalment el partit que havia de disputar el cap de setmana passat contra el Teià. La propera jornada, les de la nostra localitat visitaran la pista de l'Arrels-Penya Solsona.
URI:https://www.llagosta.cat/actualitat/noticies/la-concordia-va-ajornar-el-seu-partit-contra-el-teia-i-perd-la-primera-posicio-del-grup.html
CLASS:PUBLIC
END:VEVENT
END:VCALENDAR
