BEGIN:VCALENDAR
VERSION:2.0
CALSCALE:GREGORIAN
PRODID:-//Diputació de Barcelona//DibaCMS//EN
BEGIN:VEVENT
UID:5738
DTSTAMP:20260424T110426
DTSTART:20130123T000000
DTEND:20140123T000000
SUMMARY:El sènior del Vallag torna a la competició dissabte a casa contra el cuer, el Martorell
LOCATION:
METHOD:PUBLISH
X-WR-CALNAME:llagosta@llagosta.cat
X-WR-TIMEZONE:Europe/Madrid
DESCRIPTION:El sènior de l'Handbol Club Vallag de la Llagosta reprendrà el proper cap de setmana la competició de lliga. Els de la nostra localitat rebran la visita del Martorell, que és el darrer classificat. El partit es disputarà dissabte, a les set de la tarda, al Complex Esportiu Municipal El Turó.
URI:https://www.llagosta.cat/actualitat/noticies/el-senior-del-vallag-torna-a-la-competicio-dissabte-a-casa-contra-el-cuer-el-martorell.html
CLASS:PUBLIC
END:VEVENT
END:VCALENDAR
