BEGIN:VCALENDAR
VERSION:2.0
CALSCALE:GREGORIAN
PRODID:-//Diputació de Barcelona//DibaCMS//EN
BEGIN:VEVENT
UID:5737
DTSTAMP:20260422T105723
DTSTART:20130122T000000
DTEND:20140122T000000
SUMMARY:La Regidoria de Salut Pública fa una campanya d'higiene postural per a escolars
LOCATION:
METHOD:PUBLISH
X-WR-CALNAME:llagosta@llagosta.cat
X-WR-TIMEZONE:Europe/Madrid
DESCRIPTION:L'Ajuntament de la Llagosta ha iniciat avui una campanya adreçada als escolars de la Llagosta sobre higiene postural. L'objectiu principal és donar als infants nocions bàsiques sobre com seure bé per evitar mals d'esquena i aconseguir una major atenció a la classe.
URI:https://www.llagosta.cat/actualitat/noticies/la-regidoria-de-salut-publica-fa-una-campanya-dhigiene-postural-per-a-escolars.html
CLASS:PUBLIC
END:VEVENT
END:VCALENDAR
