BEGIN:VCALENDAR
VERSION:2.0
CALSCALE:GREGORIAN
PRODID:-//Diputació de Barcelona//DibaCMS//EN
BEGIN:VEVENT
UID:5735
DTSTAMP:20260422T085836
DTSTART:20130122T000000
DTEND:20140122T000000
SUMMARY:Demà, xerrada sobre històries de la Llagosta a la Biblioteca Municipal
LOCATION:
METHOD:PUBLISH
X-WR-CALNAME:llagosta@llagosta.cat
X-WR-TIMEZONE:Europe/Madrid
DESCRIPTION:La Biblioteca Municipal de la Llagosta organitzarà demà una xerrada sobre la nostra localitat. Sota el títol d'Històries de la Llagosta, la Biblioteca ens oferirà un espai per compartir amb tres veïns de la nostra població fets i anècdotes sobre la Llagosta. L'activitat començarà a les quatre de la tarda.
URI:https://www.llagosta.cat/actualitat/noticies/dema-xerrada-sobre-histories-de-la-llagosta-a-la-biblioteca-municipal.html
CLASS:PUBLIC
END:VEVENT
END:VCALENDAR
