BEGIN:VCALENDAR
VERSION:2.0
CALSCALE:GREGORIAN
PRODID:-//Diputació de Barcelona//DibaCMS//EN
BEGIN:VEVENT
UID:5734
DTSTAMP:20260422T142427
DTSTART:20130122T000000
DTEND:20140122T000000
SUMMARY:Espanya passa a quarts de final després de derrotar Sèrbia per un contundent 31 a 20
LOCATION:
METHOD:PUBLISH
X-WR-CALNAME:llagosta@llagosta.cat
X-WR-TIMEZONE:Europe/Madrid
DESCRIPTION:Espanya es va classificar ahir per als quarts de final del Mundial d'handbol després de derrotar Sèrbia per un clar 31 a 20. Els espanyols, entre els quals es trobava el llagostenc Antonio García, van fer un gran partit i no van donar cap opció als serbis. 
URI:https://www.llagosta.cat/actualitat/noticies/espanya-passa-a-quarts-de-final-despres-de-derrotar-serbia-per-un-contundent-31-a-20.html
CLASS:PUBLIC
END:VEVENT
END:VCALENDAR
