BEGIN:VCALENDAR
VERSION:2.0
CALSCALE:GREGORIAN
PRODID:-//Diputació de Barcelona//DibaCMS//EN
BEGIN:VEVENT
UID:5733
DTSTAMP:20260422T124111
DTSTART:20130121T000000
DTEND:20140121T000000
SUMMARY:L'Ajuntament demana una subvenció per renovar part de l'enllumenat públic
LOCATION:
METHOD:PUBLISH
X-WR-CALNAME:llagosta@llagosta.cat
X-WR-TIMEZONE:Europe/Madrid
DESCRIPTION:L'Ajuntament de la Llagosta ha sol·licitat al Departament de Territori i Sostenibilitat de la Generalitat una subvenció per renovar part de l'enllumenat públic de la nostra localitat. El principal objectiu d'aquesta futura actuació és continuar amb les tasques de prevenció de la contaminació lluminosa i l'estalvi energètic.
URI:https://www.llagosta.cat/actualitat/noticies/lajuntament-demana-una-subvencio-per-renovar-part-de-lenllumenat-public.html
CLASS:PUBLIC
END:VEVENT
END:VCALENDAR
