BEGIN:VCALENDAR
VERSION:2.0
CALSCALE:GREGORIAN
PRODID:-//Diputació de Barcelona//DibaCMS//EN
BEGIN:VEVENT
UID:5732
DTSTAMP:20260422T091055
DTSTART:20130121T000000
DTEND:20140121T000000
SUMMARY:Alumnes de 4t B de l'Escola Joan Maragall visiten l'Ajuntament de la Llagosta
LOCATION:
METHOD:PUBLISH
X-WR-CALNAME:llagosta@llagosta.cat
X-WR-TIMEZONE:Europe/Madrid
DESCRIPTION:Els estudiants del grup B de quart curs de Primària de l'Escola Joan Maragall han visitat aquest matí l'Ajuntament de la Llagosta. Els alumnes han estat acompanyats per l'alcalde, Alberto López.
URI:https://www.llagosta.cat/actualitat/noticies/alumnes-de-4t-b-de-lescola-joan-maragall-visiten-lajuntament-de-la-llagosta.html
CLASS:PUBLIC
END:VEVENT
END:VCALENDAR
