BEGIN:VCALENDAR
VERSION:2.0
CALSCALE:GREGORIAN
PRODID:-//Diputació de Barcelona//DibaCMS//EN
BEGIN:VEVENT
UID:5730
DTSTAMP:20260422T174806
DTSTART:20130121T000000
DTEND:20140121T000000
SUMMARY:El Centre Cultural acull demà a les sis de la tarda una xerrada sobre psicologia esportiva
LOCATION:
METHOD:PUBLISH
X-WR-CALNAME:llagosta@llagosta.cat
X-WR-TIMEZONE:Europe/Madrid
DESCRIPTION:El Club Esportiu Fondistes de la Llagosta organitzarà demà una xerrada sobre psicologia esportiva. La conferència es farà al Centre Cultural de la plaça de l'Alcalde Sisó Pons a partir de les sis de la tarda.
URI:https://www.llagosta.cat/actualitat/noticies/el-centre-cultural-acull-dema-a-les-sis-de-la-tarda-una-xerrada-sobre-psicologia-esportiva.html
CLASS:PUBLIC
END:VEVENT
END:VCALENDAR
