BEGIN:VCALENDAR
VERSION:2.0
CALSCALE:GREGORIAN
PRODID:-//Diputació de Barcelona//DibaCMS//EN
BEGIN:VEVENT
UID:5729
DTSTAMP:20260422T105247
DTSTART:20130121T000000
DTEND:20140121T000000
SUMMARY:El FS Unión Llagostense fa un bon partit i empata a casa (6-6) contra el líder, l'Esplais
LOCATION:
METHOD:PUBLISH
X-WR-CALNAME:llagosta@llagosta.cat
X-WR-TIMEZONE:Europe/Madrid
DESCRIPTION:El primer equip del Fútbol Sala Unión Llagostense va empatar la jornada passada a sis gols contra el líder de la competició, l'Esplais. Els de la nostra localitat van fer un bon paper, que els va portar a dominar el partit fins als darrers minuts de l'enfrontament.
URI:https://www.llagosta.cat/actualitat/noticies/el-fs-union-llagostense-fa-un-bon-partit-i-empata-a-casa-6-6-contra-el-lider-lesplais.html
CLASS:PUBLIC
END:VEVENT
END:VCALENDAR
