BEGIN:VCALENDAR
VERSION:2.0
CALSCALE:GREGORIAN
PRODID:-//Diputació de Barcelona//DibaCMS//EN
BEGIN:VEVENT
UID:5728
DTSTAMP:20260423T153329
DTSTART:20130121T000000
DTEND:20140121T000000
SUMMARY:La selecció espanyola d'handbol juga avui contra Sèrbia el partit de vuitens de final
LOCATION:
METHOD:PUBLISH
X-WR-CALNAME:llagosta@llagosta.cat
X-WR-TIMEZONE:Europe/Madrid
DESCRIPTION:La selecció espanyola d'handbol, amb el llagostenc Antonio García a les seves files, juga avui el partit de vuitens de final del Mundial contra Sèrbia. L'enfrontament tindrà lloc a partir de les set de la tarda a Saragossa.
URI:https://www.llagosta.cat/actualitat/noticies/la-seleccio-espanyola-dhandbol-juga-avui-contra-serbia-el-partit-de-vuitens-de-final.html
CLASS:PUBLIC
END:VEVENT
END:VCALENDAR
