BEGIN:VCALENDAR
VERSION:2.0
CALSCALE:GREGORIAN
PRODID:-//Diputació de Barcelona//DibaCMS//EN
BEGIN:VEVENT
UID:5727
DTSTAMP:20260422T122804
DTSTART:20130118T000000
DTEND:20140118T000000
SUMMARY:El sènior del Joventut Handbol defensarà el liderat a la pista del cuer, l'Agramunt
LOCATION:
METHOD:PUBLISH
X-WR-CALNAME:llagosta@llagosta.cat
X-WR-TIMEZONE:Europe/Madrid
DESCRIPTION:El sènior del Joventut Handbol La Llagosta començarà aquest cap de setmana la segona volta del campionat de lliga desplaçant-se a la pista del cuer, l'Agramunt, que ha perdut tots els partits. Els llagostens són els primers i compten per victòries tots els seus enfrontaments.
URI:https://www.llagosta.cat/actualitat/noticies/el-senior-del-joventut-handbol-defensara-el-liderat-a-la-pista-del-cuer-lagramunt.html
CLASS:PUBLIC
END:VEVENT
END:VCALENDAR
