BEGIN:VCALENDAR
VERSION:2.0
CALSCALE:GREGORIAN
PRODID:-//Diputació de Barcelona//DibaCMS//EN
BEGIN:VEVENT
UID:5726
DTSTAMP:20260423T190703
DTSTART:20130118T000000
DTEND:20140118T000000
SUMMARY:Gran partit d'Antonio García en el triomf d'Espanya sobre Hongria (28-22)
LOCATION:
METHOD:PUBLISH
X-WR-CALNAME:llagosta@llagosta.cat
X-WR-TIMEZONE:Europe/Madrid
DESCRIPTION:Antonio García va fer ahir un gran partit en l'enfrontament entre Espanya i Hongria que va acabar amb victòria de la selecció espanyola per 28 a 22. García va jugar molts minuts i va marcar dos gols. 
URI:https://www.llagosta.cat/actualitat/noticies/gran-partit-dantonio-garcia-en-el-triomf-despanya-sobre-hongria-28-22.html
CLASS:PUBLIC
END:VEVENT
END:VCALENDAR
