BEGIN:VCALENDAR
VERSION:2.0
CALSCALE:GREGORIAN
PRODID:-//Diputació de Barcelona//DibaCMS//EN
BEGIN:VEVENT
UID:5725
DTSTAMP:20260422T232624
DTSTART:20130117T000000
DTEND:20140101T000000
SUMMARY:Nova manifestació a la Llagosta en contra de les retallades en els serveis públics
LOCATION:
METHOD:PUBLISH
X-WR-CALNAME:llagosta@llagosta.cat
X-WR-TIMEZONE:Europe/Madrid
DESCRIPTION:Empleats públics de l'administració local i de l'ensenyament i membres de les AMPA de la Llagosta s'han tornat a manifestar avui per protestar contra les retallades en els serveis públics que estan aplicant els governs de la Generalitat i de Madrid. Aquesta era la tercera mobilització consecutiva convocada a la nostra localitat de forma unitària pels treballadors públics de la nostra localitat i els representants de les AMPA de les escoles de la Llagosta. 
URI:https://www.llagosta.cat/actualitat/noticies/nova-manifestacio-a-la-llagosta-en-contra-de-les-retallades-en-els-serveis-publics.html
CLASS:PUBLIC
END:VEVENT
END:VCALENDAR
