BEGIN:VCALENDAR
VERSION:2.0
CALSCALE:GREGORIAN
PRODID:-//Diputació de Barcelona//DibaCMS//EN
BEGIN:VEVENT
UID:5724
DTSTAMP:20260422T215435
DTSTART:20130117T000000
DTEND:20140117T000000
SUMMARY:La Concòrdia derrota el Castelldefels B per 7 a 2 amb una gran segona part
LOCATION:
METHOD:PUBLISH
X-WR-CALNAME:llagosta@llagosta.cat
X-WR-TIMEZONE:Europe/Madrid
DESCRIPTION:El Club Deportivo La Concòrdia va vèncer la jornada passada el Castelldefels B per 7 a 2. La Concòrdia portava quatre jornades sense guanyar. A priori, el partit es presentava complicat, ja que l'equip de la nostra localitat es presentava amb una plantilla molt justa. 
URI:https://www.llagosta.cat/actualitat/noticies/la-concordia-derrota-el-castelldefels-b-per-7-a-2-amb-una-gran-segona-part.html
CLASS:PUBLIC
END:VEVENT
END:VCALENDAR
