BEGIN:VCALENDAR
VERSION:2.0
CALSCALE:GREGORIAN
PRODID:-//Diputació de Barcelona//DibaCMS//EN
BEGIN:VEVENT
UID:5723
DTSTAMP:20260423T081030
DTSTART:20130117T000000
DTEND:20140117T000000
SUMMARY:La Biblioteca dóna a conèixer les activitats que farà durant tot l'any 2013
LOCATION:
METHOD:PUBLISH
X-WR-CALNAME:llagosta@llagosta.cat
X-WR-TIMEZONE:Europe/Madrid
DESCRIPTION:La Biblioteca Municipal de la Llagosta ja té enllestida la programació d'aquest any 2013. Les principals novetats són el Taller d'escriptura creativa, que es farà fins al juny, i dues Hores del conte en anglès.
URI:https://www.llagosta.cat/actualitat/noticies/la-biblioteca-dona-a-coneixer-les-activitats-que-fara-durant-tot-lany-2013.html
CLASS:PUBLIC
END:VEVENT
END:VCALENDAR
