BEGIN:VCALENDAR
VERSION:2.0
CALSCALE:GREGORIAN
PRODID:-//Diputació de Barcelona//DibaCMS//EN
BEGIN:VEVENT
UID:5722
DTSTAMP:20260424T110202
DTSTART:20130117T000000
DTEND:20140117T000000
SUMMARY:El sènior de l'EBC La Llagosta rep el segon classificat després de perdre a Roda (79-70)
LOCATION:
METHOD:PUBLISH
X-WR-CALNAME:llagosta@llagosta.cat
X-WR-TIMEZONE:Europe/Madrid
DESCRIPTION:El primer equip de l'Esportiu Bàsquet Club de la Llagosta rebrà aquest cap de setmana el segon classificat, el Sant Celoni. Els de la nostra localitat van perdre la jornada passada per 79 a 70 davant del Roda, un dels seus principals rivals a la classificació.
URI:https://www.llagosta.cat/actualitat/noticies/el-senior-de-lebc-la-llagosta-rep-el-segon-classificat-despres-de-perdre-a-roda-79-70.html
CLASS:PUBLIC
END:VEVENT
END:VCALENDAR
