BEGIN:VCALENDAR
VERSION:2.0
CALSCALE:GREGORIAN
PRODID:-//Diputació de Barcelona//DibaCMS//EN
BEGIN:VEVENT
UID:5721
DTSTAMP:20260423T013709
DTSTART:20130116T000000
DTEND:20140116T000000
SUMMARY:Es redueixen el nombre de competicions en les quals participa el Club de Judo de la Llagosta
LOCATION:
METHOD:PUBLISH
X-WR-CALNAME:llagosta@llagosta.cat
X-WR-TIMEZONE:Europe/Madrid
DESCRIPTION:El Club de Judo del Gimnàs La Llagosta, com la resta de clubs, es veurà afectat per la dràstica reducció de competicions oficials que se celebraran aquest any. La crisi ha fet disminuir a la meitat els rànquings i campionats organitzats tant per la Federació Catalana com per l'Espanyola.
URI:https://www.llagosta.cat/actualitat/noticies/es-redueixen-el-nombre-de-competicions-en-les-quals-participa-el-club-de-judo-de-la-llagosta.html
CLASS:PUBLIC
END:VEVENT
END:VCALENDAR
