BEGIN:VCALENDAR
VERSION:2.0
CALSCALE:GREGORIAN
PRODID:-//Diputació de Barcelona//DibaCMS//EN
BEGIN:VEVENT
UID:5720
DTSTAMP:20260423T075929
DTSTART:20130116T000000
DTEND:20140116T000000
SUMMARY:Neix una nova entitat a la Llagosta, la Unión Musical La Flamenca
LOCATION:
METHOD:PUBLISH
X-WR-CALNAME:llagosta@llagosta.cat
X-WR-TIMEZONE:Europe/Madrid
DESCRIPTION:Unión Musical La Flamenca és el nom de la nova entitat que s'ha creat a la Llagosta. La promoció de la guitarra flamenca en particular i del flamenc en general són els principals objectius d'aquesta associació, promoguda pels propietaris de la botiga Mundo Flamenco.
URI:https://www.llagosta.cat/actualitat/noticies/neix-una-nova-entitat-a-la-llagosta-la-union-musical-la-flamenca.html
CLASS:PUBLIC
END:VEVENT
END:VCALENDAR
