BEGIN:VCALENDAR
VERSION:2.0
CALSCALE:GREGORIAN
PRODID:-//Diputació de Barcelona//DibaCMS//EN
BEGIN:VEVENT
UID:5719
DTSTAMP:20260423T060757
DTSTART:20130116T000000
DTEND:20140116T000000
SUMMARY:Demà. nova manifestació a la Llagosta d'empleats del sector públic i de les AMPA
LOCATION:
METHOD:PUBLISH
X-WR-CALNAME:llagosta@llagosta.cat
X-WR-TIMEZONE:Europe/Madrid
DESCRIPTION:Empleats públics de la Llagosta i les AMPA de les escoles de la nostra localitat convoquen per a demà una nova manifestació contra les retallades que els governs de la Generalitat i de Madrid estan aplicant als serveis públics. La concentració començarà a la una del migdia a la plaça d'Antoni Baqué.
URI:https://www.llagosta.cat/actualitat/noticies/dema-nova-manifestacio-a-la-llagosta-dempleats-del-sector-public-i-de-les-ampa.html
CLASS:PUBLIC
END:VEVENT
END:VCALENDAR
