BEGIN:VCALENDAR
VERSION:2.0
CALSCALE:GREGORIAN
PRODID:-//Diputació de Barcelona//DibaCMS//EN
BEGIN:VEVENT
UID:5718
DTSTAMP:20260422T232453
DTSTART:20130116T000000
DTEND:20140116T000000
SUMMARY:Antonio García marca set gols en el triomf d'Espanya sobre Austràlia (51-11)
LOCATION:
METHOD:PUBLISH
X-WR-CALNAME:llagosta@llagosta.cat
X-WR-TIMEZONE:Europe/Madrid
DESCRIPTION:L'esportista de la Llagosta Antonio García va marcar ahir set gols en la victòria d'Espanya sobre Austràlia en partit corresponent a la tercera jornada de la primera fase del Mundial. Els espanyols van guanyar per un clar 51 a 11 una selecció molt fluixa. 
URI:https://www.llagosta.cat/actualitat/noticies/antonio-garcia-marca-set-gols-en-el-triomf-despanya-sobre-australia-51-11.html
CLASS:PUBLIC
END:VEVENT
END:VCALENDAR
