BEGIN:VCALENDAR
VERSION:2.0
CALSCALE:GREGORIAN
PRODID:-//Diputació de Barcelona//DibaCMS//EN
BEGIN:VEVENT
UID:5717
DTSTAMP:20260423T020259
DTSTART:20130115T000000
DTEND:20140115T000000
SUMMARY:L'Ajuntament manté la seva col·laboració amb dos projectes solidaris
LOCATION:
METHOD:PUBLISH
X-WR-CALNAME:llagosta@llagosta.cat
X-WR-TIMEZONE:Europe/Madrid
DESCRIPTION:L'Ajuntament de la Llagosta mantindrà durant aquest any la seva aportació a dos projectes solidaris, juntament amb altres municipis vallesans i el Consell Comarcal. El manteniment del pis per a malalts sahrauís de Montornès i les accions de desenvolupament de l'Asociación de Municipios del Norte de Chinandega  (AMUNORCHI) a Nicaragua comptaran novament amb col·laboració municipal.
URI:https://www.llagosta.cat/actualitat/noticies/lajuntament-mante-la-seva-collaboracio-amb-dos-projectes-solidaris.html
CLASS:PUBLIC
END:VEVENT
END:VCALENDAR
