BEGIN:VCALENDAR
VERSION:2.0
CALSCALE:GREGORIAN
PRODID:-//Diputació de Barcelona//DibaCMS//EN
BEGIN:VEVENT
UID:5716
DTSTAMP:20260423T164735
DTSTART:20130115T000000
DTEND:20140114T000000
SUMMARY:L'entitat Veus de Dona obre la inscripció per participar en diversos tallers
LOCATION:
METHOD:PUBLISH
X-WR-CALNAME:llagosta@llagosta.cat
X-WR-TIMEZONE:Europe/Madrid
DESCRIPTION:L'associació Veus de Dona de la Llagosta continua aquest any amb els tallers que organitza al llarg del curs, el d'informàtica bàsica, el de manualitats, el de dansa del ventre i el de converses en anglès. Ara, l'entitat ha obert un nou procés d'inscripcions.
URI:https://www.llagosta.cat/actualitat/noticies/lentitat-veus-de-dona-obre-la-inscripcio-per-participar-en-diversos-tallers.html
CLASS:PUBLIC
END:VEVENT
END:VCALENDAR
