BEGIN:VCALENDAR
VERSION:2.0
CALSCALE:GREGORIAN
PRODID:-//Diputació de Barcelona//DibaCMS//EN
BEGIN:VEVENT
UID:5715
DTSTAMP:20260423T130824
DTSTART:20130115T000000
DTEND:20140115T000000
SUMMARY:La Policia Local de la Llagosta fa diversos controls d'alcoholèmia amb cap positiu
LOCATION:
METHOD:PUBLISH
X-WR-CALNAME:llagosta@llagosta.cat
X-WR-TIMEZONE:Europe/Madrid
DESCRIPTION:La Policia Local de la Llagosta ha realitzat durant aquests dies diversos controls d'alcoholèmia. El resultat ha estat satisfactori, ja que cap de les 64 persones que han passat la prova no ha donat positiu.
URI:https://www.llagosta.cat/actualitat/noticies/la-policia-local-de-la-llagosta-fa-diversos-controls-dalcoholemia-amb-cap-positiu.html
CLASS:PUBLIC
END:VEVENT
END:VCALENDAR
