BEGIN:VCALENDAR
VERSION:2.0
CALSCALE:GREGORIAN
PRODID:-//Diputació de Barcelona//DibaCMS//EN
BEGIN:VEVENT
UID:5714
DTSTAMP:20260423T125744
DTSTART:20130115T000000
DTEND:20140115T000000
SUMMARY:El Viejas Glorias perd 4 a 1 al camp del líder, el Lares, perjudicat per l'àrbitre
LOCATION:
METHOD:PUBLISH
X-WR-CALNAME:llagosta@llagosta.cat
X-WR-TIMEZONE:Europe/Madrid
DESCRIPTION:El Club Deportivo Viejas Glorias va perdre el cap de setmana per 4 a 1 al camp del líder, el Lares. Els llagostencs van fer un bon partit, però van ser perjudicats clarament per l'àrbitre, sobretot a la primera part. 
URI:https://www.llagosta.cat/actualitat/noticies/el-viejas-glorias-perd-4-a-1-al-camp-del-lider-el-lares-perjudicat-per-larbitre.html
CLASS:PUBLIC
END:VEVENT
END:VCALENDAR
