BEGIN:VCALENDAR
VERSION:2.0
CALSCALE:GREGORIAN
PRODID:-//Diputació de Barcelona//DibaCMS//EN
BEGIN:VEVENT
UID:5713
DTSTAMP:20260423T020432
DTSTART:20130115T000000
DTEND:20140115T000000
SUMMARY:Espanya derrota Egipte i Antonio García juga uns minuts però no marca cap gol
LOCATION:
METHOD:PUBLISH
X-WR-CALNAME:llagosta@llagosta.cat
X-WR-TIMEZONE:Europe/Madrid
DESCRIPTION:La selecció espanyola d'handbol, amb el llagostenc Antonio García a les seves files, va derrotar ahir Egipte en el segon partit del Mundial que es disputa a Espanya. El combinat que dirigeix Valero Rivera es va imposar per 24 a 29 i va sumar la segona victòria. Antonio García va jugar uns minuts, però no va marcar cap gol.
URI:https://www.llagosta.cat/actualitat/noticies/espanya-derrota-egipte-i-antonio-garcia-juga-uns-minuts-pero-no-marca-cap-gol.html
CLASS:PUBLIC
END:VEVENT
END:VCALENDAR
