BEGIN:VCALENDAR
VERSION:2.0
CALSCALE:GREGORIAN
PRODID:-//Diputació de Barcelona//DibaCMS//EN
BEGIN:VEVENT
UID:5712
DTSTAMP:20260423T171846
DTSTART:20130114T000000
DTEND:20140104T000000
SUMMARY:Ple al Centre Cultural durant les dues representacions de Mamma Mia, a càrrec de JUMP
LOCATION:
METHOD:PUBLISH
X-WR-CALNAME:llagosta@llagosta.cat
X-WR-TIMEZONE:Europe/Madrid
DESCRIPTION:El Centre Cultural es va omplir dissabte durant les dues representacions del musical Mamma Mia, a càrrec del grup JUMP. L'espectacle va servir per fer la presentació pública de JUMP, un col·lectiu de persones relacionades amb el grup de teatre de la Llagosta TELL.
URI:https://www.llagosta.cat/actualitat/noticies/ple-al-centre-cultural-durant-les-dues-representacions-de-mamma-mia-a-carrec-de-jump.html
CLASS:PUBLIC
END:VEVENT
END:VCALENDAR
