BEGIN:VCALENDAR
VERSION:2.0
CALSCALE:GREGORIAN
PRODID:-//Diputació de Barcelona//DibaCMS//EN
BEGIN:VEVENT
UID:5711
DTSTAMP:20260423T070448
DTSTART:20130114T000000
DTEND:20140114T000000
SUMMARY:L'Ajuntament rep 160 carnets de la deixalleria amb les deu caselles segellades
LOCATION:
METHOD:PUBLISH
X-WR-CALNAME:llagosta@llagosta.cat
X-WR-TIMEZONE:Europe/Madrid
DESCRIPTION:Un total de 160 veïns de la Llagosta es beneficiaran aquest any d'una bonificació del 10% en el rebut de les escombraries després d'haver lliurat a l'Ajuntament el carnet d'ús de la deixalleria amb les deu caselles segellades. L'any anterior, van ser 162 els ciutadans beneficiats per aquesta mesura.
URI:https://www.llagosta.cat/actualitat/noticies/lajuntament-rep-160-carnets-de-la-deixalleria-amb-les-deu-caselles-segellades.html
CLASS:PUBLIC
END:VEVENT
END:VCALENDAR
