BEGIN:VCALENDAR
VERSION:2.0
CALSCALE:GREGORIAN
PRODID:-//Diputació de Barcelona//DibaCMS//EN
BEGIN:VEVENT
UID:5710
DTSTAMP:20260422T200434
DTSTART:20130114T000000
DTEND:20140114T000000
SUMMARY:El Fútbol Sala Unión Llagostense cau a la pista del Ripoll i perd la segona posició
LOCATION:
METHOD:PUBLISH
X-WR-CALNAME:llagosta@llagosta.cat
X-WR-TIMEZONE:Europe/Madrid
DESCRIPTION:El primer equip del Fútbol Sala Unión Llagostense va perdre el cap de setmana a la pista del Ripoll per 4 a 2. Els de la nostra localitat van jugar contra un altre dels equips que lluiten pel liderat i que, ara, els ha pres el segon lloc a la taula.
URI:https://www.llagosta.cat/actualitat/noticies/el-futbol-sala-union-llagostense-cau-a-la-pista-del-ripoll-i-perd-la-segona-posicio.html
CLASS:PUBLIC
END:VEVENT
END:VCALENDAR
