BEGIN:VCALENDAR
VERSION:2.0
CALSCALE:GREGORIAN
PRODID:-//Diputació de Barcelona//DibaCMS//EN
BEGIN:VEVENT
UID:5709
DTSTAMP:20260423T075708
DTSTART:20130111T000000
DTEND:20140111T000000
SUMMARY:El grup JUMP representarà demà al Centre Cultural l'obra de teatre Mamma Mia
LOCATION:
METHOD:PUBLISH
X-WR-CALNAME:llagosta@llagosta.cat
X-WR-TIMEZONE:Europe/Madrid
DESCRIPTION:El Centre Cultural acollirà demà la representació del musical Mamma Mia, a càrrec del grup JUMP. Hi haurà dues sessions, una a les sis de la tarda, amb les entrades ja exhaurides, i la segona a dos quarts de nou.
URI:https://www.llagosta.cat/actualitat/noticies/el-grup-jump-representara-dema-al-centre-cultural-lobra-de-teatre-mamma-mia.html
CLASS:PUBLIC
END:VEVENT
END:VCALENDAR
