BEGIN:VCALENDAR
VERSION:2.0
CALSCALE:GREGORIAN
PRODID:-//Diputació de Barcelona//DibaCMS//EN
BEGIN:VEVENT
UID:5708
DTSTAMP:20260423T144954
DTSTART:20130111T000000
DTEND:20140111T000000
SUMMARY:El sènior del Joventut Handbol La Llagosta acaba la primera volta com a líder invicte
LOCATION:
METHOD:PUBLISH
X-WR-CALNAME:llagosta@llagosta.cat
X-WR-TIMEZONE:Europe/Madrid
DESCRIPTION:El Joventut Handbol La Llagosta ha fet un balanç molt positiu de la primera volta del campionat de lliga del sènior. L'equip entrenat per Luis Canalejas ha guanyat els vuit partits que ha disputat i és el líder del grup A de la Tercera Catalana amb 16 punts, quatre més que el segon, el Santpedor.
URI:https://www.llagosta.cat/actualitat/noticies/el-senior-del-joventut-handbol-la-llagosta-acaba-la-primera-volta-com-a-lider-invicte.html
CLASS:PUBLIC
END:VEVENT
END:VCALENDAR
